BEGIN:VCALENDAR
VERSION:2.0
PRODID:-//Plone.org//NONSGML plone.app.event//EN
X-WR-TIMEZONE:Europe/Madrid
BEGIN:VEVENT
SUMMARY:Cinema al Casal
DTSTART;TZID=Europe/Madrid;VALUE=DATE-TIME:20140322T213000
DTEND;TZID=Europe/Madrid;VALUE=DATE-TIME:20140322T223000
DTSTAMP;VALUE=DATE-TIME:20260422T175634Z
UID:68fb695a1ef656da504bf2d601751a9f
CREATED;VALUE=DATE-TIME:20140322T000000Z
CATEGORIES:Cinema
LOCATION:El Casal de Llavaneres (Sala de lectura)
COMMENT:Preu: Socis gratuït, no socis: 3 euros.
URL:https://ajllavaneres.cat/document.php?id=7521
END:VEVENT
END:VCALENDAR