BEGIN:VCALENDAR
VERSION:2.0
PRODID:-//Plone.org//NONSGML plone.app.event//EN
X-WR-TIMEZONE:Europe/Madrid
BEGIN:VEVENT
SUMMARY:Ascensió al Puigmal
DTSTART;TZID=Europe/Madrid;VALUE=DATE-TIME:20140222T050000
DTEND;TZID=Europe/Madrid;VALUE=DATE-TIME:20140222T060000
DTSTAMP;VALUE=DATE-TIME:20260423T094542Z
UID:26b77678cad99438137b324e39e742c6
CREATED;VALUE=DATE-TIME:20140222T000000Z
CATEGORIES:Esports
LOCATION:sortida davant el CAP
ORGANIZER:Grup &OpenCurlyDoubleQuote;Oju Peligru&CloseCurlyDoubleQuote; i Secció Esportiva del Casal
DESCRIPTION:Des d'Err, Cerdanya francesa
URL:https://ajllavaneres.cat/document.php?id=7522
END:VEVENT
END:VCALENDAR