BEGIN:VCALENDAR
VERSION:2.0
PRODID:-//Plone.org//NONSGML plone.app.event//EN
X-WR-TIMEZONE:Europe/Madrid
BEGIN:VEVENT
SUMMARY:Cinema infantil
DTSTART;TZID=Europe/Madrid;VALUE=DATE-TIME:20140323T163000
DTEND;TZID=Europe/Madrid;VALUE=DATE-TIME:20140323T173000
DTSTAMP;VALUE=DATE-TIME:20260422T180921Z
UID:ab928fd2817e930aea8e1c23ffe6f9ce
CREATED;VALUE=DATE-TIME:20140323T000000Z
CATEGORIES:Cinema
LOCATION:El Casal de Llavaneres ( Sala de lectura )
ORGANIZER:Secció de Cultura d'El Casal de Llavaneres
COMMENT:Preu: Socis gratuït, no socis: 3 euros.
DESCRIPTION:"El orígen de los guardianes"
URL:https://ajllavaneres.cat/document.php?id=7523
END:VEVENT
END:VCALENDAR