BEGIN:VCALENDAR
VERSION:2.0
PRODID:-//Plone.org//NONSGML plone.app.event//EN
X-WR-TIMEZONE:Europe/Madrid
BEGIN:VEVENT
SUMMARY:Tarda de clàssics
DTSTART;TZID=Europe/Madrid;VALUE=DATE-TIME:20140323T183000
DTEND;TZID=Europe/Madrid;VALUE=DATE-TIME:20140323T193000
DTSTAMP;VALUE=DATE-TIME:20260422T215159Z
UID:5410f4e0b103ab2be447a6ec22bf396d
CREATED;VALUE=DATE-TIME:20140323T000000Z
CATEGORIES:Cinema
LOCATION:El Casal de Llavaneres (Sala de lectura)
COMMENT:Preu: Socis gratuït, no socis: 3 euros.
URL:https://ajllavaneres.cat/document.php?id=7524
END:VEVENT
END:VCALENDAR