BEGIN:VCALENDAR
VERSION:2.0
PRODID:-//Plone.org//NONSGML plone.app.event//EN
X-WR-TIMEZONE:Europe/Madrid
BEGIN:VEVENT
SUMMARY:Sortida als aiguamolls de l'Empordà (A peu i BTT)
DTSTART;TZID=Europe/Madrid;VALUE=DATE-TIME:20140327T070000
DTEND;TZID=Europe/Madrid;VALUE=DATE-TIME:20140327T080000
DTSTAMP;VALUE=DATE-TIME:20260422T214838Z
UID:e9238348fa5fc06de7227e0330453e40
CREATED;VALUE=DATE-TIME:20140327T000000Z
CATEGORIES:Esports
LOCATION:El Casal de Llavaneres&CloseCurlyDoubleQuote; (Sortida davant El Casal)
ORGANIZER:Secció Sènior d'El Casal de Llavaneres
URL:https://ajllavaneres.cat/document.php?id=7525
END:VEVENT
END:VCALENDAR