BEGIN:VCALENDAR
VERSION:2.0
PRODID:-//Plone.org//NONSGML plone.app.event//EN
X-WR-TIMEZONE:Europe/Madrid
BEGIN:VEVENT
SUMMARY:Visita de l'Oficina Mòbil d'Atenció al Consumidor
DTSTART;TZID=Europe/Madrid;VALUE=DATE-TIME:20140328T103000
DTEND;TZID=Europe/Madrid;VALUE=DATE-TIME:20140328T113000
DTSTAMP;VALUE=DATE-TIME:20260422T131522Z
UID:6089a3612100921b700f9823e2b1d6a8
CREATED;VALUE=DATE-TIME:20140328T000000Z
LOCATION:Passeig de la Mare de Déu de Montserrat
ORGANIZER:Regidoria de Promoció Econòmica, Comerç i Turisme, i Diputació de Barcelona
COMMENT:Durada: Fins a les 13 hores
URL:https://ajllavaneres.cat/document.php?id=7526
END:VEVENT
END:VCALENDAR