BEGIN:VCALENDAR
VERSION:2.0
PRODID:-//Plone.org//NONSGML plone.app.event//EN
X-WR-TIMEZONE:Europe/Madrid
BEGIN:VEVENT
SUMMARY:Interclubs 2014 de Patinatge Artístic
DTSTART;TZID=Europe/Madrid;VALUE=DATE-TIME:20140322T090000
DTEND;TZID=Europe/Madrid;VALUE=DATE-TIME:20140322T100000
DTSTAMP;VALUE=DATE-TIME:20260423T055947Z
UID:2dbf515607143cefafbf58c36b2122cd
CREATED;VALUE=DATE-TIME:20140322T000000Z
LOCATION:Pavelló municipal de Caldes d'Estrac
COMMENT:Durada: Fins a les 20.00 h
DESCRIPTION:Competició de patinatge artístic amb la participació del Club de Patinatge Artístic de Llavaneres
URL:https://ajllavaneres.cat/document.php?id=7562
END:VEVENT
END:VCALENDAR