BEGIN:VCALENDAR
VERSION:2.0
PRODID:-//Plone.org//NONSGML plone.app.event//EN
X-WR-TIMEZONE:Europe/Madrid
BEGIN:VEVENT
SUMMARY:Batucada
DTSTART;TZID=Europe/Madrid;VALUE=DATE-TIME:20140405T131500
DTEND;TZID=Europe/Madrid;VALUE=DATE-TIME:20140405T141500
DTSTAMP;VALUE=DATE-TIME:20260423T055842Z
UID:fe1e3164bea8277ca36be43f67d7a484
CREATED;VALUE=DATE-TIME:20140405T000000Z
CATEGORIES:Festa,Música
LOCATION:Can Caralt (sortida)
ORGANIZER:Escola Municipal de Música de Llavaneres
DESCRIPTION:Cercavila de percussió brasilera a càrrec de Festimbal
URL:https://ajllavaneres.cat/document.php?id=7582
END:VEVENT
END:VCALENDAR