BEGIN:VCALENDAR
VERSION:2.0
PRODID:-//Plone.org//NONSGML plone.app.event//EN
X-WR-TIMEZONE:Europe/Madrid
BEGIN:VEVENT
SUMMARY:Sortida als Cingles de Tavertet
DTSTART;TZID=Europe/Madrid;VALUE=DATE-TIME:20140403T070000
DTEND;TZID=Europe/Madrid;VALUE=DATE-TIME:20140403T080000
DTSTAMP;VALUE=DATE-TIME:20260422T131320Z
UID:ef62dc958bfaaeb78ae8d0217bdca8b0
CREATED;VALUE=DATE-TIME:20140403T000000Z
CATEGORIES:Esports
LOCATION:El Casal de Llavaneres
ORGANIZER:Secció Sènior d'El Casal de Llavaneres
URL:https://ajllavaneres.cat/document.php?id=7597
END:VEVENT
END:VCALENDAR