BEGIN:VCALENDAR
VERSION:2.0
PRODID:-//Plone.org//NONSGML plone.app.event//EN
X-WR-TIMEZONE:Europe/Madrid
BEGIN:VEVENT
SUMMARY:Actes del Tricentenari Pro Trobada (1714-2014)
DTSTART;TZID=Europe/Madrid;VALUE=DATE-TIME:20140404T213000
DTEND;TZID=Europe/Madrid;VALUE=DATE-TIME:20140404T223000
DTSTAMP;VALUE=DATE-TIME:20260423T090520Z
UID:90a7014af66148d4882e83e2b96ee42b
CREATED;VALUE=DATE-TIME:20140404T000000Z
LOCATION:El Casal de Llavaneres (Sala de lectura)
ORGANIZER:Secció de Cultura d'El Casal de Llavaneres
URL:https://ajllavaneres.cat/document.php?id=7598
END:VEVENT
END:VCALENDAR