BEGIN:VCALENDAR
VERSION:2.0
PRODID:-//Plone.org//NONSGML plone.app.event//EN
X-WR-TIMEZONE:Europe/Madrid
BEGIN:VEVENT
SUMMARY:Visita comentada: "Catàleg de mirades"
DTSTART;TZID=Europe/Madrid;VALUE=DATE-TIME:20140405T180000
DTEND;TZID=Europe/Madrid;VALUE=DATE-TIME:20140405T190000
DTSTAMP;VALUE=DATE-TIME:20260423T003711Z
UID:40bdceb7439fc3400479b3a3d26c063c
CREATED;VALUE=DATE-TIME:20140405T000000Z
CATEGORIES:Exposició
LOCATION:Can Caralt
ORGANIZER:Museu-Arxiu de Sant Andreu de Llavaneres
DESCRIPTION:A càrrec de l'artista, Mariano Cabellos
URL:https://ajllavaneres.cat/document.php?id=7600
END:VEVENT
END:VCALENDAR