BEGIN:VCALENDAR
VERSION:2.0
PRODID:-//Plone.org//NONSGML plone.app.event//EN
X-WR-TIMEZONE:Europe/Madrid
BEGIN:VEVENT
SUMMARY:Taula rodona: "Sentim el paisatge"
DTSTART;TZID=Europe/Madrid;VALUE=DATE-TIME:20140410T193000
DTEND;TZID=Europe/Madrid;VALUE=DATE-TIME:20140410T203000
DTSTAMP;VALUE=DATE-TIME:20260423T003726Z
UID:4aa982b73a21706eb9f1e53ce5ed7860
CREATED;VALUE=DATE-TIME:20140410T000000Z
LOCATION:Can Caralt
ORGANIZER:Museu-Arxiu de Sant Andreu de Llavaneres
URL:https://ajllavaneres.cat/document.php?id=7601
END:VEVENT
END:VCALENDAR