BEGIN:VCALENDAR
VERSION:2.0
PRODID:-//Plone.org//NONSGML plone.app.event//EN
X-WR-TIMEZONE:Europe/Madrid
BEGIN:VEVENT
SUMMARY:Òpera a El Casal
DTSTART;TZID=Europe/Madrid;VALUE=DATE-TIME:20140412T180000
DTEND;TZID=Europe/Madrid;VALUE=DATE-TIME:20140412T190000
DTSTAMP;VALUE=DATE-TIME:20260422T230508Z
UID:ee57d7f4f7f530509e73da676b0199ff
CREATED;VALUE=DATE-TIME:20140412T000000Z
CATEGORIES:Música
LOCATION:El Casal de Llavaneres (Sala de lectura)
ORGANIZER:Secció de Cultura d'El Casal de Llavaneres
COMMENT:Preu: Socis gratuït, no socis: 3 euros.
DESCRIPTION:&OpenCurlyDoubleQuote;Turandot&CloseCurlyDoubleQuote; de G. Puccini, subtitulada en castellà
URL:https://ajllavaneres.cat/document.php?id=7603
END:VEVENT
END:VCALENDAR