BEGIN:VCALENDAR
VERSION:2.0
PRODID:-//Plone.org//NONSGML plone.app.event//EN
X-WR-TIMEZONE:Europe/Madrid
BEGIN:VEVENT
SUMMARY:Conferència: &OpenCurlyDoubleQuote;Som Essència&CloseCurlyDoubleQuote;
DTSTART;TZID=Europe/Madrid;VALUE=DATE-TIME:20140401T193000
DTEND;TZID=Europe/Madrid;VALUE=DATE-TIME:20140401T203000
DTSTAMP;VALUE=DATE-TIME:20260422T220547Z
UID:b44a3df18f045a357f1b686d32df5fe7
CREATED;VALUE=DATE-TIME:20140401T000000Z
CATEGORIES:Conferència
LOCATION:El Casal de Llavaneres (Sala de lectura)
ORGANIZER:El Casal de LLavaneres
COMMENT:Preu: Acte obert a tothom
URL:https://ajllavaneres.cat/document.php?id=7607
END:VEVENT
END:VCALENDAR