BEGIN:VCALENDAR
VERSION:2.0
PRODID:-//Plone.org//NONSGML plone.app.event//EN
X-WR-TIMEZONE:Europe/Madrid
BEGIN:VEVENT
SUMMARY:Concert de primavera
DTSTART;TZID=Europe/Madrid;VALUE=DATE-TIME:20140405T120000
DTEND;TZID=Europe/Madrid;VALUE=DATE-TIME:20140405T130000
DTSTAMP;VALUE=DATE-TIME:20260422T132431Z
UID:dd4265de48eda2d42f154e3608f650e9
CREATED;VALUE=DATE-TIME:20140405T000000Z
CATEGORIES:Música
LOCATION:Can Caralt
ORGANIZER:Escola Municipal de Música
DESCRIPTION:Cantata: Jo de gran vull ser... Un gran músic!
URL:https://ajllavaneres.cat/document.php?id=7625
END:VEVENT
END:VCALENDAR