BEGIN:VCALENDAR
VERSION:2.0
PRODID:-//Plone.org//NONSGML plone.app.event//EN
X-WR-TIMEZONE:Europe/Madrid
BEGIN:VEVENT
SUMMARY:Ral·li fotogràfic de la Festa del Pèsol
DTSTART;TZID=Europe/Madrid;VALUE=DATE-TIME:20140427T090000
DTEND;TZID=Europe/Madrid;VALUE=DATE-TIME:20140427T100000
DTSTAMP;VALUE=DATE-TIME:20260423T054115Z
UID:1f8425aa90cf7da6c55678f350848c02
CREATED;VALUE=DATE-TIME:20140427T000000Z
LOCATION:Passeig de la Mare de Déu de Montserrat
ORGANIZER:El Casal de Llavaneres
URL:https://ajllavaneres.cat/document.php?id=7639
END:VEVENT
END:VCALENDAR