BEGIN:VCALENDAR
VERSION:2.0
PRODID:-//Plone.org//NONSGML plone.app.event//EN
X-WR-TIMEZONE:Europe/Madrid
BEGIN:VEVENT
SUMMARY:Anada al monestir de Montserrat
DTSTART;TZID=Europe/Madrid;VALUE=DATE-TIME:20140427T071500
DTEND;TZID=Europe/Madrid;VALUE=DATE-TIME:20140427T081500
DTSTAMP;VALUE=DATE-TIME:20260423T003740Z
UID:135c39eebe610095cb7acf4e7c172b79
CREATED;VALUE=DATE-TIME:20140427T000000Z
CATEGORIES:Festa
LOCATION:Plaça de la Vila (sortida)
ORGANIZER:Secció Cultura del Casal
COMMENT:Preu: 35 euros (autocar més cremallera)
URL:https://ajllavaneres.cat/document.php?id=7640
END:VEVENT
END:VCALENDAR