BEGIN:VCALENDAR
VERSION:2.0
PRODID:-//Plone.org//NONSGML plone.app.event//EN
X-WR-TIMEZONE:Europe/Madrid
BEGIN:VEVENT
SUMMARY:Exposició: "El Congo: perill de riqueses"
DTSTART;TZID=Europe/Madrid;VALUE=DATE-TIME:20140505T160000
DTEND;TZID=Europe/Madrid;VALUE=DATE-TIME:20140505T170000
DTSTAMP;VALUE=DATE-TIME:20260422T212352Z
UID:602b69530964294bb39c186321b923fe
CREATED;VALUE=DATE-TIME:20140505T000000Z
CATEGORIES:Exposició
LOCATION:Sala d'actes de la Biblioteca Municipal
ORGANIZER:Biblioteca municipal; Regidoria de cultura
COMMENT:Durada: Fins al 31 de maig
DESCRIPTION:A càrrec de la Lliga dels Drets dels Pobles
URL:https://ajllavaneres.cat/document.php?id=7709
END:VEVENT
END:VCALENDAR