BEGIN:VCALENDAR
VERSION:2.0
PRODID:-//Plone.org//NONSGML plone.app.event//EN
X-WR-TIMEZONE:Europe/Madrid
BEGIN:VEVENT
SUMMARY:Sortida de Gegants al Port de la Selva
DTSTART;TZID=Europe/Madrid;VALUE=DATE-TIME:20140518T080000
DTEND;TZID=Europe/Madrid;VALUE=DATE-TIME:20140518T090000
DTSTAMP;VALUE=DATE-TIME:20260420T100624Z
UID:1cf540436ffb702e914fb1bbc090cead
CREATED;VALUE=DATE-TIME:20140518T000000Z
CATEGORIES:Festa,Infantils
LOCATION:El Casal de Llavaneres&CloseCurlyDoubleQuote; (Sortida davant El Casal)
ORGANIZER:Secció de Tradicions i Festes catalanes d'El Casal de Llavaneres
URL:https://ajllavaneres.cat/document.php?id=7736
END:VEVENT
END:VCALENDAR