BEGIN:VCALENDAR
VERSION:2.0
PRODID:-//Plone.org//NONSGML plone.app.event//EN
X-WR-TIMEZONE:Europe/Madrid
BEGIN:VEVENT
SUMMARY:Sortida de diables a Sant Boi
DTSTART;TZID=Europe/Madrid;VALUE=DATE-TIME:20140516T190000
DTEND;TZID=Europe/Madrid;VALUE=DATE-TIME:20140516T200000
DTSTAMP;VALUE=DATE-TIME:20260420T083352Z
UID:e12ad23007293b942e9b64a1e1d2cb50
CREATED;VALUE=DATE-TIME:20140516T000000Z
CATEGORIES:Festa
LOCATION:Sant Boi del Llobregat
ORGANIZER:Secció de Tradicions i Festes catalanes d'El Casal de Llavaneres
URL:https://ajllavaneres.cat/document.php?id=7737
END:VEVENT
END:VCALENDAR