BEGIN:VCALENDAR
VERSION:2.0
PRODID:-//Plone.org//NONSGML plone.app.event//EN
X-WR-TIMEZONE:Europe/Madrid
BEGIN:VEVENT
SUMMARY:Revetlla de Sant Pere
DTSTART;TZID=Europe/Madrid;VALUE=DATE-TIME:20140628T190000
DTEND;TZID=Europe/Madrid;VALUE=DATE-TIME:20140628T200000
DTSTAMP;VALUE=DATE-TIME:20260419T200214Z
UID:d64a26c47e8b9ab8e2950b5d6d9be7c2
CREATED;VALUE=DATE-TIME:20140628T000000Z
LOCATION:Parc de Sant Pere
ORGANIZER:Regidoria de Cultura i Festes, amb la col·laboració d'El Casal
DESCRIPTION:Espectacle infantil, sardinada popular i ball
URL:https://ajllavaneres.cat/document.php?id=7793
END:VEVENT
END:VCALENDAR