BEGIN:VCALENDAR
VERSION:2.0
PRODID:-//Plone.org//NONSGML plone.app.event//EN
X-WR-TIMEZONE:Europe/Madrid
BEGIN:VEVENT
SUMMARY:Torneig de ràpides d'escacs
DTSTART;TZID=Europe/Madrid;VALUE=DATE-TIME:20140719T103000
DTEND;TZID=Europe/Madrid;VALUE=DATE-TIME:20140719T113000
DTSTAMP;VALUE=DATE-TIME:20260420T051741Z
UID:bac5a41d7397167906c75be283ecd40f
CREATED;VALUE=DATE-TIME:20140719T000000Z
CATEGORIES:Esports
LOCATION:Casal de la Gent Gran
ORGANIZER:Club d'Escacs Llavaneres
URL:https://ajllavaneres.cat/document.php?id=7909
END:VEVENT
END:VCALENDAR