BEGIN:VCALENDAR
VERSION:2.0
PRODID:-//Plone.org//NONSGML plone.app.event//EN
X-WR-TIMEZONE:Europe/Madrid
BEGIN:VEVENT
SUMMARY:L'hora del conte
DTSTART;TZID=Europe/Madrid;VALUE=DATE-TIME:20141115T120000
DTEND;TZID=Europe/Madrid;VALUE=DATE-TIME:20141115T130000
DTSTAMP;VALUE=DATE-TIME:20260420T102436Z
UID:371a961d9c1b2892ed6f4142182fc7d4
CREATED;VALUE=DATE-TIME:20141115T000000Z
CATEGORIES:Infantils
LOCATION:Sala infantil de la Biblioteca Municipal
ORGANIZER:Biblioteca municipal; Regidoria de Cultura
DESCRIPTION:"Contes monstruosos", amb la rondallaire Gina Clotet
URL:https://ajllavaneres.cat/document.php?id=8102
END:VEVENT
END:VCALENDAR