BEGIN:VCALENDAR
VERSION:2.0
PRODID:-//Plone.org//NONSGML plone.app.event//EN
X-WR-TIMEZONE:Europe/Madrid
BEGIN:VEVENT
SUMMARY:Sessió formativa: "Lideratge transformacional a l'empresa (2a sessió)"
DTSTART;TZID=Europe/Madrid;VALUE=DATE-TIME:20141111T100000
DTEND;TZID=Europe/Madrid;VALUE=DATE-TIME:20141111T110000
DTSTAMP;VALUE=DATE-TIME:20260420T075022Z
UID:9750aaca6771439af7aa3d448b558fb6
CREATED;VALUE=DATE-TIME:20141111T000000Z
CATEGORIES:Cursos
LOCATION:Sala d'actes de la Biblioteca Municipal (C/ Clòsens, 65)
ORGANIZER:Regidoria de Promoció Econòmica, Empresa, Comerç i Turisme
COMMENT:Preu: Gratuït
Durada: Fins a les 14 hores
DESCRIPTION:A càrrec de Femarec
URL:https://ajllavaneres.cat/document.php?id=8142
END:VEVENT
END:VCALENDAR