BEGIN:VCALENDAR
VERSION:2.0
PRODID:-//Plone.org//NONSGML plone.app.event//EN
X-WR-TIMEZONE:Europe/Madrid
BEGIN:VEVENT
SUMMARY:Òpera a El Casal
DTSTART;TZID=Europe/Madrid;VALUE=DATE-TIME:20141019T180000
DTEND;TZID=Europe/Madrid;VALUE=DATE-TIME:20141019T190000
DTSTAMP;VALUE=DATE-TIME:20260419T141627Z
UID:e50e37e3b863ba013fa5b1348e45e45f
CREATED;VALUE=DATE-TIME:20141019T000000Z
CATEGORIES:Música
LOCATION:El Casal de Llavaneres
ORGANIZER:Secció de Cultura d'El Casal de Llavaneres
COMMENT:Preu: Socis gratuït. Col·laboració no socis: 3 euros.
URL:https://ajllavaneres.cat/document.php?id=8210
END:VEVENT
END:VCALENDAR