BEGIN:VCALENDAR
VERSION:2.0
PRODID:-//Plone.org//NONSGML plone.app.event//EN
X-WR-TIMEZONE:Europe/Madrid
BEGIN:VEVENT
SUMMARY:Cinema en versió original (anglès)
DTSTART;TZID=Europe/Madrid;VALUE=DATE-TIME:20141115T213000
DTEND;TZID=Europe/Madrid;VALUE=DATE-TIME:20141115T223000
DTSTAMP;VALUE=DATE-TIME:20260422T132347Z
UID:630fabee980a46ece45abc0cb5973b5c
CREATED;VALUE=DATE-TIME:20141115T000000Z
CATEGORIES:Cinema
LOCATION:El Casal de Llavaneres
ORGANIZER:Secció de Cultura d'El Casal de Llavaneres
COMMENT:Preu: Socis gratuït; no socis, col·laboració de 3 euros.
URL:https://ajllavaneres.cat/document.php?id=8326
END:VEVENT
END:VCALENDAR