BEGIN:VCALENDAR
VERSION:2.0
PRODID:-//Plone.org//NONSGML plone.app.event//EN
X-WR-TIMEZONE:Europe/Madrid
BEGIN:VEVENT
SUMMARY:Lliurament dels donatius per la lluita contra el càncer
DTSTART;TZID=Europe/Madrid;VALUE=DATE-TIME:20141121T190000
DTEND;TZID=Europe/Madrid;VALUE=DATE-TIME:20141121T200000
DTSTAMP;VALUE=DATE-TIME:20260419T233727Z
UID:dcecb2580a9c69d00f47ce9606018f12
CREATED;VALUE=DATE-TIME:20141121T000000Z
LOCATION:Sala de plens de l´Ajuntament
ORGANIZER:Llavaneres contra el Càncer
DESCRIPTION:Amb música en directe a càrrec de la cantant Gwen Perry
URL:https://ajllavaneres.cat/document.php?id=8385
END:VEVENT
END:VCALENDAR