BEGIN:VCALENDAR
VERSION:2.0
PRODID:-//Plone.org//NONSGML plone.app.event//EN
X-WR-TIMEZONE:Europe/Madrid
BEGIN:VEVENT
SUMMARY:Concert de Santa Cecília
DTSTART;TZID=Europe/Madrid;VALUE=DATE-TIME:20141121T110000
DTEND;TZID=Europe/Madrid;VALUE=DATE-TIME:20141121T120000
DTSTAMP;VALUE=DATE-TIME:20260423T145733Z
UID:90ccc78acc013ab7721fe9738731f31d
CREATED;VALUE=DATE-TIME:20141121T000000Z
CATEGORIES:Música
LOCATION:Església parroquial de Sant Andreu
ORGANIZER:Escola Serena Vall
DESCRIPTION:A càrrec dels alumnes de l'Escola Serena Vall
URL:https://ajllavaneres.cat/document.php?id=8391
END:VEVENT
END:VCALENDAR