BEGIN:VCALENDAR
VERSION:2.0
PRODID:-//Plone.org//NONSGML plone.app.event//EN
X-WR-TIMEZONE:Europe/Madrid
BEGIN:VEVENT
SUMMARY:Conferència: "L'alimentació i la seva relació amb el càncer"
DTSTART;TZID=Europe/Madrid;VALUE=DATE-TIME:20071128T190000
DTEND;TZID=Europe/Madrid;VALUE=DATE-TIME:20071128T200000
DTSTAMP;VALUE=DATE-TIME:20260419T172517Z
UID:00ac85a765945406f5ff5e2d8fa11869
CREATED;VALUE=DATE-TIME:20071128T000000Z
LOCATION:Sala de plens de l'Ajuntament
ORGANIZER:Regidoria de Sanitat
DESCRIPTION:A càrrec del doctor Bonfill
URL:https://ajllavaneres.cat/document.php?id=849
END:VEVENT
END:VCALENDAR