BEGIN:VCALENDAR
VERSION:2.0
PRODID:-//Plone.org//NONSGML plone.app.event//EN
X-WR-TIMEZONE:Europe/Madrid
BEGIN:VEVENT
SUMMARY:Classes gratuïtes de Reiki i Àngels
DTSTART;TZID=Europe/Madrid;VALUE=DATE-TIME:20141221T110000
DTEND;TZID=Europe/Madrid;VALUE=DATE-TIME:20141221T120000
DTSTAMP;VALUE=DATE-TIME:20260420T082755Z
UID:3a65f11e7ec36b50a92718ad063eff41
CREATED;VALUE=DATE-TIME:20141221T000000Z
LOCATION:El Casal de Llavaneres
ORGANIZER:Maribel Ibáñez Díaz
COMMENT:Preu: Entrada gratuïta
Durada: Cada darrer diumenge de mes
DESCRIPTION:Iniciació i desenvolupament del món espiritual i energètic
URL:https://ajllavaneres.cat/document.php?id=8528
END:VEVENT
END:VCALENDAR