BEGIN:VCALENDAR
VERSION:2.0
PRODID:-//Plone.org//NONSGML plone.app.event//EN
X-WR-TIMEZONE:Europe/Madrid
BEGIN:VEVENT
SUMMARY:Sessió de Constel·lacions familiars
DTSTART;TZID=Europe/Madrid;VALUE=DATE-TIME:20141220T160000
DTEND;TZID=Europe/Madrid;VALUE=DATE-TIME:20141220T170000
DTSTAMP;VALUE=DATE-TIME:20260419T232803Z
UID:66c7d3a302e849750c39dfb72f0b894c
CREATED;VALUE=DATE-TIME:20141220T000000Z
LOCATION:Casal de Joves
ORGANIZER:Som Essència
COMMENT:Preu: Socis de Som Essència i joves fins a 30 anys 25&euro;, no socis 30&euro;
Durada: Fins a les 20 hores
URL:https://ajllavaneres.cat/document.php?id=8533
END:VEVENT
END:VCALENDAR