BEGIN:VCALENDAR
VERSION:2.0
PRODID:-//Plone.org//NONSGML plone.app.event//EN
X-WR-TIMEZONE:Europe/Madrid
BEGIN:VEVENT
SUMMARY:Conferència: "Medicina tibetana"
DTSTART;TZID=Europe/Madrid;VALUE=DATE-TIME:20150217T181500
DTEND;TZID=Europe/Madrid;VALUE=DATE-TIME:20150217T191500
DTSTAMP;VALUE=DATE-TIME:20260420T052306Z
UID:38f496536aa1102e67d3c9ad5bda99a6
CREATED;VALUE=DATE-TIME:20150217T000000Z
CATEGORIES:Conferència
LOCATION:Sala de Lectura d'El Casal de Llavaneres
ORGANIZER:Som Essència
COMMENT:Durada: Fins a les 19.30 h
DESCRIPTION:A càrrec de Sònia Casacuberta
URL:https://ajllavaneres.cat/document.php?id=8581
END:VEVENT
END:VCALENDAR