BEGIN:VCALENDAR
VERSION:2.0
PRODID:-//Plone.org//NONSGML plone.app.event//EN
X-WR-TIMEZONE:Europe/Madrid
BEGIN:VEVENT
SUMMARY:Sant Jordi 2015 a El Casal
DTSTART;TZID=Europe/Madrid;VALUE=DATE-TIME:20150423T180000
DTEND;TZID=Europe/Madrid;VALUE=DATE-TIME:20150423T190000
DTSTAMP;VALUE=DATE-TIME:20260423T061728Z
UID:2080385f515a300e182ec6f6b6b71838
CREATED;VALUE=DATE-TIME:20150423T000000Z
LOCATION:El Casal de Llavaneres (1a planta)
ORGANIZER:Secció de Cultura d'El Casal de Llavaneres
COMMENT:Preu: Entrada lliura
URL:https://ajllavaneres.cat/document.php?id=8597
END:VEVENT
END:VCALENDAR