BEGIN:VCALENDAR
VERSION:2.0
PRODID:-//Plone.org//NONSGML plone.app.event//EN
X-WR-TIMEZONE:Europe/Madrid
BEGIN:VEVENT
SUMMARY:Premis de dibuix i narració
DTSTART;TZID=Europe/Madrid;VALUE=DATE-TIME:20071123T113000
DTEND;TZID=Europe/Madrid;VALUE=DATE-TIME:20071123T123000
DTSTAMP;VALUE=DATE-TIME:20260420T052251Z
UID:bfd316f314de73b04e3bb8d41248e3e9
CREATED;VALUE=DATE-TIME:20071123T000000Z
LOCATION:Sala de plens de l'Ajuntament
URL:https://ajllavaneres.cat/document.php?id=861
END:VEVENT
END:VCALENDAR