BEGIN:VCALENDAR
VERSION:2.0
PRODID:-//Plone.org//NONSGML plone.app.event//EN
X-WR-TIMEZONE:Europe/Madrid
BEGIN:VEVENT
SUMMARY:Cinema en versió original (anglès)
DTSTART;TZID=Europe/Madrid;VALUE=DATE-TIME:20150218T213000
DTEND;TZID=Europe/Madrid;VALUE=DATE-TIME:20150218T223000
DTSTAMP;VALUE=DATE-TIME:20260419T141229Z
UID:9acfedbc66b606444c420acd5030447e
CREATED;VALUE=DATE-TIME:20150218T000000Z
CATEGORIES:Cinema
LOCATION:Sala de lectura i audiovisuals del Casal
ORGANIZER:Secció de Cultura d'El Casal de Llavaneres
COMMENT:Preu: Socis gratuït, col&bull;laboració no socis: 3 euros.
URL:https://ajllavaneres.cat/document.php?id=8650
END:VEVENT
END:VCALENDAR