BEGIN:VCALENDAR
VERSION:2.0
PRODID:-//Plone.org//NONSGML plone.app.event//EN
X-WR-TIMEZONE:Europe/Madrid
BEGIN:VEVENT
SUMMARY:L'hora del conte
DTSTART;TZID=Europe/Madrid;VALUE=DATE-TIME:20150214T120000
DTEND;TZID=Europe/Madrid;VALUE=DATE-TIME:20150214T130000
DTSTAMP;VALUE=DATE-TIME:20260420T052057Z
UID:d49a0a0f4b86553a4f7aa871b30f8eba
CREATED;VALUE=DATE-TIME:20150214T000000Z
CATEGORIES:Infantils
LOCATION:Sala infantil de la Biblioteca Municipal
ORGANIZER:Biblioteca municipal; Regidoria de Cultura
DESCRIPTION:Contes amb la rondallaire Lidia Massó
URL:https://ajllavaneres.cat/document.php?id=8709
END:VEVENT
END:VCALENDAR