BEGIN:VCALENDAR
VERSION:2.0
PRODID:-//Plone.org//NONSGML plone.app.event//EN
X-WR-TIMEZONE:Europe/Madrid
BEGIN:VEVENT
SUMMARY:Xerrada per a adults
DTSTART;TZID=Europe/Madrid;VALUE=DATE-TIME:20150410T193000
DTEND;TZID=Europe/Madrid;VALUE=DATE-TIME:20150410T203000
DTSTAMP;VALUE=DATE-TIME:20260419T154524Z
UID:34788026b482142cd06b22149a5c123b
CREATED;VALUE=DATE-TIME:20150410T000000Z
CATEGORIES:Conferència
LOCATION:Sala d'actes de la Biblioteca Municipal
ORGANIZER:Biblioteca municipal; Regidoria de Cultura
DESCRIPTION:"Si vols canviar allò visible, primer cal canviar l'invisible", xerrada sobre nutrició a càrrec de l'educadora nutricional Griselda Marfà
URL:https://ajllavaneres.cat/document.php?id=8713
END:VEVENT
END:VCALENDAR