BEGIN:VCALENDAR
VERSION:2.0
PRODID:-//Plone.org//NONSGML plone.app.event//EN
X-WR-TIMEZONE:Europe/Madrid
BEGIN:VEVENT
SUMMARY:Futbol 2n Equip
DTSTART;TZID=Europe/Madrid;VALUE=DATE-TIME:20071125T121500
DTEND;TZID=Europe/Madrid;VALUE=DATE-TIME:20071125T131500
DTSTAMP;VALUE=DATE-TIME:20260419T171157Z
UID:503759360b67ed6f15306fc777ec3bda
CREATED;VALUE=DATE-TIME:20071125T000000Z
CATEGORIES:Esports
LOCATION:Camp municipal d'Esports
ORGANIZER:CE Llavaneres
DESCRIPTION:CE Llavaneres-Premianense UD
URL:https://ajllavaneres.cat/document.php?id=875
END:VEVENT
END:VCALENDAR