BEGIN:VCALENDAR
VERSION:2.0
PRODID:-//Plone.org//NONSGML plone.app.event//EN
X-WR-TIMEZONE:Europe/Madrid
BEGIN:VEVENT
SUMMARY:Bàsquet Júnior A
DTSTART;TZID=Europe/Madrid;VALUE=DATE-TIME:20071125T160000
DTEND;TZID=Europe/Madrid;VALUE=DATE-TIME:20071125T170000
DTSTAMP;VALUE=DATE-TIME:20260419T163723Z
UID:727e6e6056989acf4e1caeafba923ab4
CREATED;VALUE=DATE-TIME:20071125T000000Z
CATEGORIES:Esports
LOCATION:Pavelló municipal
ORGANIZER:CB Llavaneres
DESCRIPTION:CB LLavaneres-CB La Salle Montcada
URL:https://ajllavaneres.cat/document.php?id=879
END:VEVENT
END:VCALENDAR