BEGIN:VCALENDAR
VERSION:2.0
PRODID:-//Plone.org//NONSGML plone.app.event//EN
X-WR-TIMEZONE:Europe/Madrid
BEGIN:VEVENT
SUMMARY:Sortida al camí de Ronda
DTSTART;TZID=Europe/Madrid;VALUE=DATE-TIME:20150423T070000
DTEND;TZID=Europe/Madrid;VALUE=DATE-TIME:20150423T080000
DTSTAMP;VALUE=DATE-TIME:20260422T174528Z
UID:2d235bd9d99d886a1fdd5fce5742fbc6
CREATED;VALUE=DATE-TIME:20150423T000000Z
CATEGORIES:Esports
LOCATION:Sortida davant el CAP
ORGANIZER:Secció Sènior d'El Casal de Llavaneres
URL:https://ajllavaneres.cat/document.php?id=8915
END:VEVENT
END:VCALENDAR