BEGIN:VCALENDAR
VERSION:2.0
PRODID:-//Plone.org//NONSGML plone.app.event//EN
X-WR-TIMEZONE:Europe/Madrid
BEGIN:VEVENT
SUMMARY:Inauguració de l'exposició de fotografies de la Festa del Pèsol
DTSTART;TZID=Europe/Madrid;VALUE=DATE-TIME:20150501T180000
DTEND;TZID=Europe/Madrid;VALUE=DATE-TIME:20150501T190000
DTSTAMP;VALUE=DATE-TIME:20260420T113305Z
UID:f4c04b80f52bf68240c4c7c039904649
CREATED;VALUE=DATE-TIME:20150501T000000Z
CATEGORIES:Exposició
LOCATION:Sala cava d'El Casal de Llavaneres
ORGANIZER:Secció Fotogràfica d'El Casal de Llavaneres
COMMENT:Durada: Fins diumenge 3 de maig, a les 14 h
URL:https://ajllavaneres.cat/document.php?id=8919
END:VEVENT
END:VCALENDAR