BEGIN:VCALENDAR
VERSION:2.0
PRODID:-//Plone.org//NONSGML plone.app.event//EN
X-WR-TIMEZONE:Europe/Madrid
BEGIN:VEVENT
SUMMARY:1a Mostra Juvenil
DTSTART;TZID=Europe/Madrid;VALUE=DATE-TIME:20150411T160000
DTEND;TZID=Europe/Madrid;VALUE=DATE-TIME:20150411T170000
DTSTAMP;VALUE=DATE-TIME:20260423T003640Z
UID:60b86ab670c192bf7160c03ee38f4369
CREATED;VALUE=DATE-TIME:20150411T000000Z
CATEGORIES:Festa
LOCATION:Casal de Joves
ORGANIZER:Regidoria de Joventut
DESCRIPTION:Per a nois i noies de 13 a 30 anys
URL:https://ajllavaneres.cat/document.php?id=8939
END:VEVENT
END:VCALENDAR