BEGIN:VCALENDAR
VERSION:2.0
PRODID:-//Plone.org//NONSGML plone.app.event//EN
X-WR-TIMEZONE:Europe/Madrid
BEGIN:VEVENT
SUMMARY:Passejada modernista
DTSTART;TZID=Europe/Madrid;VALUE=DATE-TIME:20150422T100000
DTEND;TZID=Europe/Madrid;VALUE=DATE-TIME:20150422T110000
DTSTAMP;VALUE=DATE-TIME:20260422T193349Z
UID:1c7c870b6e93477a89f92397856893f9
CREATED;VALUE=DATE-TIME:20150422T000000Z
LOCATION:Plaça de la Vila (sortida)
ORGANIZER:Ajuntament de Sant Andreu de Llavaneres
URL:https://ajllavaneres.cat/document.php?id=8990
END:VEVENT
END:VCALENDAR