BEGIN:VCALENDAR
VERSION:2.0
PRODID:-//Plone.org//NONSGML plone.app.event//EN
X-WR-TIMEZONE:Europe/Madrid
BEGIN:VEVENT
SUMMARY:Preinscripcions a les llars d'infants municipals
DTSTART;TZID=Europe/Madrid;VALUE=DATE-TIME:20150504T090000
DTEND;TZID=Europe/Madrid;VALUE=DATE-TIME:20150504T100000
DTSTAMP;VALUE=DATE-TIME:20260423T003810Z
UID:01ac70da3c55df2fce94af1648c34188
CREATED;VALUE=DATE-TIME:20150504T000000Z
LOCATION:Escola Bressol Minerva i Escola Bressol Sant Nicolau
COMMENT:Durada: Fins al 15 de maig de 2015
DESCRIPTION:Llars d'infants Minerva i Sant Nicolau
URL:https://ajllavaneres.cat/document.php?id=9002
END:VEVENT
END:VCALENDAR