BEGIN:VCALENDAR
VERSION:2.0
PRODID:-//Plone.org//NONSGML plone.app.event//EN
X-WR-TIMEZONE:Europe/Madrid
BEGIN:VEVENT
SUMMARY:Cinema en versió original (subtitulada)
DTSTART;TZID=Europe/Madrid;VALUE=DATE-TIME:20150515T213000
DTEND;TZID=Europe/Madrid;VALUE=DATE-TIME:20150515T223000
DTSTAMP;VALUE=DATE-TIME:20260423T054100Z
UID:1644691a03d5595b97eb03c9d41aef2d
CREATED;VALUE=DATE-TIME:20150515T000000Z
CATEGORIES:Cinema
LOCATION:El Casal de Llavaneres
ORGANIZER:Secció de Cultura d'El Casal de Llavaneres
COMMENT:Preu: Socis gratuït, no socis: 3 euros
URL:https://ajllavaneres.cat/document.php?id=9078
END:VEVENT
END:VCALENDAR