BEGIN:VCALENDAR
VERSION:2.0
PRODID:-//Plone.org//NONSGML plone.app.event//EN
X-WR-TIMEZONE:Europe/Madrid
BEGIN:VEVENT
SUMMARY:Xerrada: "La volta al món"
DTSTART;TZID=Europe/Madrid;VALUE=DATE-TIME:20150522T193000
DTEND;TZID=Europe/Madrid;VALUE=DATE-TIME:20150522T203000
DTSTAMP;VALUE=DATE-TIME:20260423T042134Z
UID:c157e11d777760a76a8083a4a070fc6f
CREATED;VALUE=DATE-TIME:20150522T000000Z
CATEGORIES:Conferència
LOCATION:El Casal de Llavaneres (Sala de lectura)
ORGANIZER:Vueltaalmundosabrosa
URL:https://ajllavaneres.cat/document.php?id=9083
END:VEVENT
END:VCALENDAR