BEGIN:VCALENDAR
VERSION:2.0
PRODID:-//Plone.org//NONSGML plone.app.event//EN
X-WR-TIMEZONE:Europe/Madrid
BEGIN:VEVENT
SUMMARY:Muntatge pessebre escoles
DTSTART;TZID=Europe/Madrid;VALUE=DATE-TIME:20071205T100000
DTEND;TZID=Europe/Madrid;VALUE=DATE-TIME:20071205T110000
DTSTAMP;VALUE=DATE-TIME:20260421T113209Z
UID:afc4d729e3a90762aff33eeef6554dd7
CREATED;VALUE=DATE-TIME:20071205T000000Z
CATEGORIES:Infantils
LOCATION:Passeig de la Mare de Déu de Montserrat
ORGANIZER:Regidoria de Promoció Econòmica, Comerç i Turisme
DESCRIPTION:Fira de Nadal
URL:https://ajllavaneres.cat/document.php?id=909
END:VEVENT
END:VCALENDAR