BEGIN:VCALENDAR
VERSION:2.0
PRODID:-//Plone.org//NONSGML plone.app.event//EN
X-WR-TIMEZONE:Europe/Madrid
BEGIN:VEVENT
SUMMARY:Caga Tió infantil
DTSTART;TZID=Europe/Madrid;VALUE=DATE-TIME:20071208T113000
DTEND;TZID=Europe/Madrid;VALUE=DATE-TIME:20071208T123000
DTSTAMP;VALUE=DATE-TIME:20260419T233621Z
UID:810bc03a959c42bbad8bd20ece771a56
CREATED;VALUE=DATE-TIME:20071208T000000Z
LOCATION:Passeig de la Mare de Déu de Montserrat
ORGANIZER:Regidoria de Promoció Econòmica, Comerç i Turisme
DESCRIPTION:Fira de Nadal
URL:https://ajllavaneres.cat/document.php?id=910
END:VEVENT
END:VCALENDAR