BEGIN:VCALENDAR
VERSION:2.0
PRODID:-//Plone.org//NONSGML plone.app.event//EN
X-WR-TIMEZONE:Europe/Madrid
BEGIN:VEVENT
SUMMARY:Conte de Nadal
DTSTART;TZID=Europe/Madrid;VALUE=DATE-TIME:20071209T110000
DTEND;TZID=Europe/Madrid;VALUE=DATE-TIME:20071209T120000
DTSTAMP;VALUE=DATE-TIME:20260419T202925Z
UID:b76409eb4ff0ef4462795f3c2efafa40
CREATED;VALUE=DATE-TIME:20071209T000000Z
CATEGORIES:Infantils
LOCATION:Passeig de la Mare de Déu de Montserrat
ORGANIZER:Regidoria de Promoció Econòmica, Comerç i Turisme
DESCRIPTION:Fira de Nadal
URL:https://ajllavaneres.cat/document.php?id=911
END:VEVENT
END:VCALENDAR