BEGIN:VCALENDAR
VERSION:2.0
PRODID:-//Plone.org//NONSGML plone.app.event//EN
X-WR-TIMEZONE:Europe/Madrid
BEGIN:VEVENT
SUMMARY:Sortida a la Vall d'en Bas (Garrotxa)
DTSTART;TZID=Europe/Madrid;VALUE=DATE-TIME:20071206T070000
DTEND;TZID=Europe/Madrid;VALUE=DATE-TIME:20071206T080000
DTSTAMP;VALUE=DATE-TIME:20260420T022756Z
UID:472d0307ec3eb1fc0a646186e766d655
CREATED;VALUE=DATE-TIME:20071206T000000Z
CATEGORIES:Esports
LOCATION:El Casal de Llavaneres
ORGANIZER:Secció Esportiva
COMMENT:Preu: 20 euros, dinar a part
DESCRIPTION:Inscripcions fins el dia 4
URL:https://ajllavaneres.cat/document.php?id=916
END:VEVENT
END:VCALENDAR